BEGIN:VCALENDAR
VERSION:2.0
PRODID:-//Northeast Ohio Parent - ECPv5.16.4//NONSGML v1.0//EN
CALSCALE:GREGORIAN
METHOD:PUBLISH
X-WR-CALNAME:Northeast Ohio Parent
X-ORIGINAL-URL:https://www.northeastohioparent.com
X-WR-CALDESC:Events for Northeast Ohio Parent
BEGIN:VTIMEZONE
TZID:America/New_York
BEGIN:DAYLIGHT
TZOFFSETFROM:-0500
TZOFFSETTO:-0400
TZNAME:EDT
DTSTART:20250309T070000
END:DAYLIGHT
BEGIN:STANDARD
TZOFFSETFROM:-0400
TZOFFSETTO:-0500
TZNAME:EST
DTSTART:20251102T060000
END:STANDARD
END:VTIMEZONE
BEGIN:VEVENT
DTSTART;VALUE=DATE:20251207
DTEND;VALUE=DATE:20251208
DTSTAMP:20260419T102953
CREATED:20251008T185631Z
LAST-MODIFIED:20251008T185631Z
UID:162648-1765065600-1765151999@www.northeastohioparent.com
SUMMARY:Holiday Ice & Lights Festival
DESCRIPTION:Bundle up and head outside to sit on Santa’s ice throne. Also\, check out some of northeast Ohio’s best ice carvers in action. There will be plenty of photo opportunities.\n\n\nEach evening\, enjoy a wagon ride through the Farmpark’s classic light displays.\n\n \n\n\nVisit the Well Bred Shed and the arena where Farmpark staff and volunteers have created a holiday-themed equine show.\n\n\nSanta and his elves will set up his tremendous North Pole Train Display in the Exhibit Hall.\n\n\nVisit to the North Pole Cookie Shop that will feature Santa’s favorite sugar cookies and frosting for guests to decorate and take home.\n\n\nAfter the wagon ride\, experience traditional and musical light displays\, and be sure to visit Santa in his sleigh.\n\n\n12-9 p.m.
URL:https://www.northeastohioparent.com/event/holiday-ice-lights-festival/2025-12-07/
LOCATION:Lake Metroparks Farmpark\, 8800 Euclid Chardon Road\, Kirtland
CATEGORIES:Holiday,Outdoors,Parks
ATTACH;FMTTYPE=image/jpeg:https://www.northeastohioparent.com/wp-content/uploads/2025/10/Ice-carving-634-Earl-Linaburg.jpg
GEO:41.5811077;-81.3314222
X-APPLE-STRUCTURED-LOCATION;VALUE=URI;X-ADDRESS=Lake Metroparks Farmpark 8800 Euclid Chardon Road Kirtland;X-APPLE-RADIUS=500;X-TITLE=8800 Euclid Chardon Road:geo:-81.3314222,41.5811077
END:VEVENT
END:VCALENDAR