BEGIN:VCALENDAR
VERSION:2.0
PRODID:-//Northeast Ohio Parent - ECPv5.16.4//NONSGML v1.0//EN
CALSCALE:GREGORIAN
METHOD:PUBLISH
X-WR-CALNAME:Northeast Ohio Parent
X-ORIGINAL-URL:https://www.northeastohioparent.com
X-WR-CALDESC:Events for Northeast Ohio Parent
BEGIN:VTIMEZONE
TZID:America/New_York
BEGIN:DAYLIGHT
TZOFFSETFROM:-0500
TZOFFSETTO:-0400
TZNAME:EDT
DTSTART:20250309T070000
END:DAYLIGHT
BEGIN:STANDARD
TZOFFSETFROM:-0400
TZOFFSETTO:-0500
TZNAME:EST
DTSTART:20251102T060000
END:STANDARD
END:VTIMEZONE
BEGIN:VEVENT
DTSTART;VALUE=DATE:20251217
DTEND;VALUE=DATE:20251218
DTSTAMP:20260424T013555
CREATED:20251114T170718Z
LAST-MODIFIED:20251114T170718Z
UID:167439-1765929600-1766015999@www.northeastohioparent.com
SUMMARY:Holiday Lights
DESCRIPTION:5:30-9 p.m. Wednesday-Sunday Through 12/21. Carlisle Equestrian Center\, 13630 Diagonal Road (drive-through)\, and Carlisle Visitor Center\, 12882 Diagonal Road (in person) in LaGrange. loraincountymetroparks.com
URL:https://www.northeastohioparent.com/event/holiday-lights-4/
CATEGORIES:Holiday,Outdoors
END:VEVENT
END:VCALENDAR