BEGIN:VCALENDAR
VERSION:2.0
PRODID:-//Northeast Ohio Parent - ECPv5.16.4//NONSGML v1.0//EN
CALSCALE:GREGORIAN
METHOD:PUBLISH
X-WR-CALNAME:Northeast Ohio Parent
X-ORIGINAL-URL:https://www.northeastohioparent.com
X-WR-CALDESC:Events for Northeast Ohio Parent
BEGIN:VTIMEZONE
TZID:America/New_York
BEGIN:DAYLIGHT
TZOFFSETFROM:-0500
TZOFFSETTO:-0400
TZNAME:EDT
DTSTART:20250309T070000
END:DAYLIGHT
BEGIN:STANDARD
TZOFFSETFROM:-0400
TZOFFSETTO:-0500
TZNAME:EST
DTSTART:20251102T060000
END:STANDARD
END:VTIMEZONE
BEGIN:VEVENT
DTSTART;VALUE=DATE:20251209
DTEND;VALUE=DATE:20251210
DTSTAMP:20260424T084016
CREATED:20251113T145807Z
LAST-MODIFIED:20251113T145807Z
UID:167355-1765238400-1765324799@www.northeastohioparent.com
SUMMARY:Holiday Sing-A-Long!  
DESCRIPTION:NCJW/CLE’s singing groups and Horvitz YouthAbility of JFSA Cleveland will perform together and bring joy to the community at 6:30 p.m. 
URL:https://www.northeastohioparent.com/event/holiday-sing-a-long/
LOCATION:Eton Chagrin Boulevard\, 28601 Chagrin Blvd\, Woodmere\, OH\, 44122\, United States
ATTACH;FMTTYPE=image/jpeg:https://www.northeastohioparent.com/wp-content/uploads/2025/11/unnamed-1.jpg
GEO:41.4632992;-81.4766241
X-APPLE-STRUCTURED-LOCATION;VALUE=URI;X-ADDRESS=Eton Chagrin Boulevard 28601 Chagrin Blvd Woodmere OH 44122 United States;X-APPLE-RADIUS=500;X-TITLE=28601 Chagrin Blvd:geo:-81.4766241,41.4632992
END:VEVENT
END:VCALENDAR