BEGIN:VCALENDAR
VERSION:2.0
PRODID:-//Northeast Ohio Parent - ECPv5.16.4//NONSGML v1.0//EN
CALSCALE:GREGORIAN
METHOD:PUBLISH
X-WR-CALNAME:Northeast Ohio Parent
X-ORIGINAL-URL:https://www.northeastohioparent.com
X-WR-CALDESC:Events for Northeast Ohio Parent
BEGIN:VTIMEZONE
TZID:America/New_York
BEGIN:DAYLIGHT
TZOFFSETFROM:-0500
TZOFFSETTO:-0400
TZNAME:EDT
DTSTART:20250309T070000
END:DAYLIGHT
BEGIN:STANDARD
TZOFFSETFROM:-0400
TZOFFSETTO:-0500
TZNAME:EST
DTSTART:20251102T060000
END:STANDARD
END:VTIMEZONE
BEGIN:VEVENT
DTSTART;TZID=America/New_York:20251205T190000
DTEND;TZID=America/New_York:20251205T220000
DTSTAMP:20260424T131354
CREATED:20251020T145248Z
LAST-MODIFIED:20251020T145248Z
UID:163117-1764961200-1764972000@www.northeastohioparent.com
SUMMARY:Holiday Ugly Sweater Cruise on Lady Caroline
DESCRIPTION:Tired of boring office parties and predictable holiday get-togethers? Get ready to eat\, drink and be merry with skyline views\, a delicious dinner buffet and a dance floor rocking to our DJ’s beats. Whether you’re celebrating with a date\, friends or your entire office\, this party is the perfect way to make some festive memories. And don’t forget to wear your most outrageous holiday sweater because we’re giving out awesome prizes for the most over-the-top Christmas\, Hanukkah or Kwanzaa sweaters. So grab your crew and get ready for a night of holiday cheer!
URL:https://www.northeastohioparent.com/event/holiday-ugly-sweater-cruise-on-lady-caroline/
LOCATION:Lady Caroline\, 1153 Main Avenue\, Cleveland\, OH\, 44113\, United States
ATTACH;FMTTYPE=image/jpeg:https://www.northeastohioparent.com/wp-content/uploads/2025/10/Sq.jpg
ORGANIZER;CN="Lady%20Caroline":MAILTO:sales@ladycaroline.com
END:VEVENT
END:VCALENDAR