BEGIN:VCALENDAR
VERSION:2.0
PRODID:-//Northeast Ohio Parent - ECPv5.16.4//NONSGML v1.0//EN
CALSCALE:GREGORIAN
METHOD:PUBLISH
X-WR-CALNAME:Northeast Ohio Parent
X-ORIGINAL-URL:https://www.northeastohioparent.com
X-WR-CALDESC:Events for Northeast Ohio Parent
BEGIN:VTIMEZONE
TZID:America/New_York
BEGIN:DAYLIGHT
TZOFFSETFROM:-0500
TZOFFSETTO:-0400
TZNAME:EDT
DTSTART:20260308T070000
END:DAYLIGHT
BEGIN:STANDARD
TZOFFSETFROM:-0400
TZOFFSETTO:-0500
TZNAME:EST
DTSTART:20261101T060000
END:STANDARD
END:VTIMEZONE
BEGIN:VEVENT
DTSTART;VALUE=DATE:20260113
DTEND;VALUE=DATE:20260114
DTSTAMP:20260423T123513
CREATED:20251204T234120Z
LAST-MODIFIED:20251204T234121Z
UID:169912-1768262400-1768348799@www.northeastohioparent.com
SUMMARY:Homeschool Family Swim
DESCRIPTION:An opportunity for homeschool families to swim on the 2nd and 4th Tuesdays starting in January. $10 for child and adult; $4.00 each additional child. Children must be accompanied by a swimming adult. Max 3 children per adult. There will not be a life guard on duty.\nFeel free to bring snacks. Space is limited each session – Call 419.445.6408 to register. 10 a.m.-12 p.m. 
URL:https://www.northeastohioparent.com/event/homeschool-family-swim/2026-01-13/
LOCATION:Sauder Village\, 22611 State Route 2\, Archbold\, OH\, United States
CATEGORIES:Homeschool,Water
ATTACH;FMTTYPE=image/jpeg:https://www.northeastohioparent.com/wp-content/uploads/2019/06/sauder_village.jpg
END:VEVENT
END:VCALENDAR