BEGIN:VCALENDAR
VERSION:2.0
PRODID:-//Northeast Ohio Parent - ECPv5.16.4//NONSGML v1.0//EN
CALSCALE:GREGORIAN
METHOD:PUBLISH
X-WR-CALNAME:Northeast Ohio Parent
X-ORIGINAL-URL:https://www.northeastohioparent.com
X-WR-CALDESC:Events for Northeast Ohio Parent
BEGIN:VTIMEZONE
TZID:America/New_York
BEGIN:DAYLIGHT
TZOFFSETFROM:-0500
TZOFFSETTO:-0400
TZNAME:EDT
DTSTART:20260308T070000
END:DAYLIGHT
BEGIN:STANDARD
TZOFFSETFROM:-0400
TZOFFSETTO:-0500
TZNAME:EST
DTSTART:20261101T060000
END:STANDARD
END:VTIMEZONE
BEGIN:VEVENT
DTSTART;VALUE=DATE:20260122
DTEND;VALUE=DATE:20260123
DTSTAMP:20260423T122817
CREATED:20251205T025458Z
LAST-MODIFIED:20251205T025458Z
UID:170000-1769040000-1769126399@www.northeastohioparent.com
SUMMARY:Homeschool with an Ambassador: What Happens in Winter
DESCRIPTION:Learn about hibernation\, brumation\, torpor and more. 10-11:30 a.m. 
URL:https://www.northeastohioparent.com/event/homeschool-with-an-ambassador-what-happens-in-winter/
LOCATION:Penitentiary Glen Reservation\, 8668 Kirtland Chardon Road\, Willoughby\, OH\, 44094\, United States
CATEGORIES:Homeschool,Parks
GEO:41.6111026;-81.3322554
X-APPLE-STRUCTURED-LOCATION;VALUE=URI;X-ADDRESS=Penitentiary Glen Reservation 8668 Kirtland Chardon Road Willoughby OH 44094 United States;X-APPLE-RADIUS=500;X-TITLE=8668 Kirtland Chardon Road:geo:-81.3322554,41.6111026
END:VEVENT
END:VCALENDAR