BEGIN:VCALENDAR
VERSION:2.0
PRODID:-//Northeast Ohio Parent - ECPv5.16.4//NONSGML v1.0//EN
CALSCALE:GREGORIAN
METHOD:PUBLISH
X-WR-CALNAME:Northeast Ohio Parent
X-ORIGINAL-URL:https://www.northeastohioparent.com
X-WR-CALDESC:Events for Northeast Ohio Parent
BEGIN:VTIMEZONE
TZID:America/New_York
BEGIN:DAYLIGHT
TZOFFSETFROM:-0500
TZOFFSETTO:-0400
TZNAME:EDT
DTSTART:20250309T070000
END:DAYLIGHT
BEGIN:STANDARD
TZOFFSETFROM:-0400
TZOFFSETTO:-0500
TZNAME:EST
DTSTART:20251102T060000
END:STANDARD
END:VTIMEZONE
BEGIN:VEVENT
DTSTART;VALUE=DATE:20251021
DTEND;VALUE=DATE:20251022
DTSTAMP:20260424T230117
CREATED:20250830T192525Z
LAST-MODIFIED:20250830T192525Z
UID:159895-1761004800-1761091199@www.northeastohioparent.com
SUMMARY:Homeschoolers Outdoor Education
DESCRIPTION:A series of three natural science classes. 10:30 a.m.-12 p.m.
URL:https://www.northeastohioparent.com/event/homeschoolers-outdoor-education-2/2025-10-21/
LOCATION:Oenslager Nature Center\, 6100 Ridge Rd.\, Sharon Center\, OH\, United States
CATEGORIES:educational,Homeschool,Outdoors
END:VEVENT
END:VCALENDAR