BEGIN:VCALENDAR
VERSION:2.0
PRODID:-//Northeast Ohio Parent - ECPv5.16.4//NONSGML v1.0//EN
CALSCALE:GREGORIAN
METHOD:PUBLISH
X-WR-CALNAME:Northeast Ohio Parent
X-ORIGINAL-URL:https://www.northeastohioparent.com
X-WR-CALDESC:Events for Northeast Ohio Parent
BEGIN:VTIMEZONE
TZID:America/New_York
BEGIN:DAYLIGHT
TZOFFSETFROM:-0500
TZOFFSETTO:-0400
TZNAME:EDT
DTSTART:20260308T070000
END:DAYLIGHT
BEGIN:STANDARD
TZOFFSETFROM:-0400
TZOFFSETTO:-0500
TZNAME:EST
DTSTART:20261101T060000
END:STANDARD
END:VTIMEZONE
BEGIN:VEVENT
DTSTART;VALUE=DATE:20260523
DTEND;VALUE=DATE:20260524
DTSTAMP:20260425T231010
CREATED:20260418T161137Z
LAST-MODIFIED:20260418T161137Z
UID:191786-1779494400-1779580799@www.northeastohioparent.com
SUMMARY:Inclusive Creative Movement Workshop
DESCRIPTION:A fun\, inclusive creative movement and dance class for ages 5-8. 10:30-11 a.m. 
URL:https://www.northeastohioparent.com/event/inclusive-creative-movement-workshop/
LOCATION:Reed Memorial Library\, 167 East Main Street\, Ravenna\, 44266
CATEGORIES:Library,Special Needs
GEO:41.1579868;-81.2399195
X-APPLE-STRUCTURED-LOCATION;VALUE=URI;X-ADDRESS=Reed Memorial Library 167 East Main Street Ravenna 44266;X-APPLE-RADIUS=500;X-TITLE=167 East Main Street:geo:-81.2399195,41.1579868
END:VEVENT
END:VCALENDAR