BEGIN:VCALENDAR
VERSION:2.0
PRODID:-//Northeast Ohio Parent - ECPv5.16.4//NONSGML v1.0//EN
CALSCALE:GREGORIAN
METHOD:PUBLISH
X-WR-CALNAME:Northeast Ohio Parent
X-ORIGINAL-URL:https://www.northeastohioparent.com
X-WR-CALDESC:Events for Northeast Ohio Parent
BEGIN:VTIMEZONE
TZID:America/New_York
BEGIN:DAYLIGHT
TZOFFSETFROM:-0500
TZOFFSETTO:-0400
TZNAME:EDT
DTSTART:20250309T070000
END:DAYLIGHT
BEGIN:STANDARD
TZOFFSETFROM:-0400
TZOFFSETTO:-0500
TZNAME:EST
DTSTART:20251102T060000
END:STANDARD
END:VTIMEZONE
BEGIN:VEVENT
DTSTART;VALUE=DATE:20251104
DTEND;VALUE=DATE:20251105
DTSTAMP:20260424T154627
CREATED:20251011T144340Z
LAST-MODIFIED:20251011T144340Z
UID:163038-1762214400-1762300799@www.northeastohioparent.com
SUMMARY:Itty Bitty Combo
DESCRIPTION:Ballet and Tap class for ages 3-5 with an adult. 3:45-4:30 p.m. 
URL:https://www.northeastohioparent.com/event/itty-bitty-combo-4/
LOCATION:Fairmount Center for the Arts\, 8400 Fairmount rd\, Novelty\, 44072
CATEGORIES:Classes,Dancing
END:VEVENT
END:VCALENDAR