BEGIN:VCALENDAR
VERSION:2.0
PRODID:-//Northeast Ohio Parent - ECPv5.16.4//NONSGML v1.0//EN
CALSCALE:GREGORIAN
METHOD:PUBLISH
X-WR-CALNAME:Northeast Ohio Parent
X-ORIGINAL-URL:https://www.northeastohioparent.com
X-WR-CALDESC:Events for Northeast Ohio Parent
BEGIN:VTIMEZONE
TZID:America/New_York
BEGIN:DAYLIGHT
TZOFFSETFROM:-0500
TZOFFSETTO:-0400
TZNAME:EDT
DTSTART:20250309T070000
END:DAYLIGHT
BEGIN:STANDARD
TZOFFSETFROM:-0400
TZOFFSETTO:-0500
TZNAME:EST
DTSTART:20251102T060000
END:STANDARD
END:VTIMEZONE
BEGIN:VEVENT
DTSTART;VALUE=DATE:20251213
DTEND;VALUE=DATE:20251214
DTSTAMP:20260424T070500
CREATED:20251115T190842Z
LAST-MODIFIED:20251115T190842Z
UID:167777-1765584000-1765670399@www.northeastohioparent.com
SUMMARY:J Kids Night Out: Glow Party
DESCRIPTION:Kids will shine on the dance floor\, play glow-in-the-dark games and enjoy the ultimate glow zone all while fueling up with a kosher dinner. 6-8:30.
URL:https://www.northeastohioparent.com/event/j-kids-night-out-glow-party/
LOCATION:Mandell JCC\, 26001 South Woodland\, Beachwood\, OH\, United States
CATEGORIES:Culture,Special Event
END:VEVENT
END:VCALENDAR