BEGIN:VCALENDAR
VERSION:2.0
PRODID:-//Northeast Ohio Parent - ECPv5.16.4//NONSGML v1.0//EN
CALSCALE:GREGORIAN
METHOD:PUBLISH
X-WR-CALNAME:Northeast Ohio Parent
X-ORIGINAL-URL:https://www.northeastohioparent.com
X-WR-CALDESC:Events for Northeast Ohio Parent
BEGIN:VTIMEZONE
TZID:America/New_York
BEGIN:DAYLIGHT
TZOFFSETFROM:-0500
TZOFFSETTO:-0400
TZNAME:EDT
DTSTART:20250309T070000
END:DAYLIGHT
BEGIN:STANDARD
TZOFFSETFROM:-0400
TZOFFSETTO:-0500
TZNAME:EST
DTSTART:20251102T060000
END:STANDARD
END:VTIMEZONE
BEGIN:VEVENT
DTSTART;TZID=America/New_York:20251116T100000
DTEND;TZID=America/New_York:20251116T113000
DTSTAMP:20260424T213453
CREATED:20251113T201047Z
LAST-MODIFIED:20251113T201047Z
UID:167334-1763287200-1763292600@www.northeastohioparent.com
SUMMARY:Jewish Sunday Experience
DESCRIPTION:Free play and Jewish themed early childhood circle time with interactive play\, music and song\, tasty snacks for ages 0-6.
URL:https://www.northeastohioparent.com/event/jewish-sunday-experience-3/
LOCATION:JFX\, 2200 S Green Road\, Cleveland\, 44121
ATTACH;FMTTYPE=image/jpeg:https://www.northeastohioparent.com/wp-content/uploads/2025/11/JSE-May.jpeg
ORGANIZER;CN="JFX":MAILTO:info@jfxcle.org
END:VEVENT
END:VCALENDAR