BEGIN:VCALENDAR
VERSION:2.0
PRODID:-//Northeast Ohio Parent - ECPv5.16.4//NONSGML v1.0//EN
CALSCALE:GREGORIAN
METHOD:PUBLISH
X-WR-CALNAME:Northeast Ohio Parent
X-ORIGINAL-URL:https://www.northeastohioparent.com
X-WR-CALDESC:Events for Northeast Ohio Parent
BEGIN:VTIMEZONE
TZID:America/New_York
BEGIN:DAYLIGHT
TZOFFSETFROM:-0500
TZOFFSETTO:-0400
TZNAME:EDT
DTSTART:20260308T070000
END:DAYLIGHT
BEGIN:STANDARD
TZOFFSETFROM:-0400
TZOFFSETTO:-0500
TZNAME:EST
DTSTART:20261101T060000
END:STANDARD
END:VTIMEZONE
BEGIN:VEVENT
DTSTART;VALUE=DATE:20260613
DTEND;VALUE=DATE:20260614
DTSTAMP:20260422T220829
CREATED:20260420T211050Z
LAST-MODIFIED:20260420T211050Z
UID:192007-1781308800-1781395199@www.northeastohioparent.com
SUMMARY:Kick off to Summer
DESCRIPTION:Try kayaking\, stand up paddleboarding\, participate in paddling related activities\, explore the park\, learn to fish\, and more. 10 a.m.-3 p.m. 
URL:https://www.northeastohioparent.com/event/kick-off-to-summer/
LOCATION:Eleanor B. Garfield Park\, 7967 Mentor Ave.\, Mentor\, OH\, United States
CATEGORIES:Sports,Water
END:VEVENT
END:VCALENDAR