BEGIN:VCALENDAR
VERSION:2.0
PRODID:-//Northeast Ohio Parent - ECPv5.16.4//NONSGML v1.0//EN
CALSCALE:GREGORIAN
METHOD:PUBLISH
X-WR-CALNAME:Northeast Ohio Parent
X-ORIGINAL-URL:https://www.northeastohioparent.com
X-WR-CALDESC:Events for Northeast Ohio Parent
BEGIN:VTIMEZONE
TZID:America/New_York
BEGIN:DAYLIGHT
TZOFFSETFROM:-0500
TZOFFSETTO:-0400
TZNAME:EDT
DTSTART:20250309T070000
END:DAYLIGHT
BEGIN:STANDARD
TZOFFSETFROM:-0400
TZOFFSETTO:-0500
TZNAME:EST
DTSTART:20251102T060000
END:STANDARD
END:VTIMEZONE
BEGIN:VEVENT
DTSTART;VALUE=DATE:20251210
DTEND;VALUE=DATE:20251211
DTSTAMP:20260424T072922
CREATED:20251115T185832Z
LAST-MODIFIED:20251115T185832Z
UID:167766-1765324800-1765411199@www.northeastohioparent.com
SUMMARY:Kids Cook: Mango and Cucumber Salad.Kids Cook: Mango and Cucumber Salad
DESCRIPTION:A series for young cooks\, bakers and foodies ages 5-8. Registration required. 6-7 p.m. 
URL:https://www.northeastohioparent.com/event/kids-cook-mango-and-cucumber-salad-kids-cook-mango-and-cucumber-salad/
LOCATION:North Ridgeville Branch Library\, 35700 Bainbridge Road\, North Ridgeville
CATEGORIES:Classes,food,Library
GEO:41.385633;-82.0159874
X-APPLE-STRUCTURED-LOCATION;VALUE=URI;X-ADDRESS=North Ridgeville Branch Library 35700 Bainbridge Road North Ridgeville;X-APPLE-RADIUS=500;X-TITLE=35700 Bainbridge Road:geo:-82.0159874,41.385633
END:VEVENT
END:VCALENDAR