BEGIN:VCALENDAR
VERSION:2.0
PRODID:-//Northeast Ohio Parent - ECPv5.16.4//NONSGML v1.0//EN
CALSCALE:GREGORIAN
METHOD:PUBLISH
X-WR-CALNAME:Northeast Ohio Parent
X-ORIGINAL-URL:https://www.northeastohioparent.com
X-WR-CALDESC:Events for Northeast Ohio Parent
BEGIN:VTIMEZONE
TZID:America/New_York
BEGIN:DAYLIGHT
TZOFFSETFROM:-0500
TZOFFSETTO:-0400
TZNAME:EDT
DTSTART:20260308T070000
END:DAYLIGHT
BEGIN:STANDARD
TZOFFSETFROM:-0400
TZOFFSETTO:-0500
TZNAME:EST
DTSTART:20261101T060000
END:STANDARD
END:VTIMEZONE
BEGIN:VEVENT
DTSTART;VALUE=DATE:20260517
DTEND;VALUE=DATE:20260518
DTSTAMP:20260422T142516
CREATED:20260419T030823Z
LAST-MODIFIED:20260419T030823Z
UID:191883-1778976000-1779062399@www.northeastohioparent.com
SUMMARY:Kids Doing Comedy
DESCRIPTION:A comedy extravaganza presented by kids\, ages 4-12. 3-4:30 p.m. 
URL:https://www.northeastohioparent.com/event/kids-doing-comedy/
LOCATION:Canton Comedy Boom\, 324 Cleveland Ave.\, NE Canton\, OH\, United States
CATEGORIES:Special Event,Theater
END:VEVENT
END:VCALENDAR