BEGIN:VCALENDAR
VERSION:2.0
PRODID:-//Northeast Ohio Parent - ECPv5.16.4//NONSGML v1.0//EN
CALSCALE:GREGORIAN
METHOD:PUBLISH
X-WR-CALNAME:Northeast Ohio Parent
X-ORIGINAL-URL:https://www.northeastohioparent.com
X-WR-CALDESC:Events for Northeast Ohio Parent
BEGIN:VTIMEZONE
TZID:America/New_York
BEGIN:DAYLIGHT
TZOFFSETFROM:-0500
TZOFFSETTO:-0400
TZNAME:EDT
DTSTART:20250309T070000
END:DAYLIGHT
BEGIN:STANDARD
TZOFFSETFROM:-0400
TZOFFSETTO:-0500
TZNAME:EST
DTSTART:20251102T060000
END:STANDARD
END:VTIMEZONE
BEGIN:VEVENT
DTSTART;VALUE=DATE:20250507
DTEND;VALUE=DATE:20250508
DTSTAMP:20260425T111945
CREATED:20250506T124734Z
LAST-MODIFIED:20260211T023050Z
UID:154073-1746576000-1746662399@www.northeastohioparent.com
SUMMARY:Kids in the Garden
DESCRIPTION:Hands-on gardening activities for children of all ages. 3:30-4:30 p.m.
URL:https://www.northeastohioparent.com/event/kids-in-the-garden-2/
LOCATION:Summit Lake Nature Center\, 411 Ira Avenue\, Akron\, OH\, United States
CATEGORIES:educational,Garden
END:VEVENT
END:VCALENDAR