BEGIN:VCALENDAR
VERSION:2.0
PRODID:-//Northeast Ohio Parent - ECPv5.16.4//NONSGML v1.0//EN
CALSCALE:GREGORIAN
METHOD:PUBLISH
X-WR-CALNAME:Northeast Ohio Parent
X-ORIGINAL-URL:https://www.northeastohioparent.com
X-WR-CALDESC:Events for Northeast Ohio Parent
BEGIN:VTIMEZONE
TZID:America/New_York
BEGIN:DAYLIGHT
TZOFFSETFROM:-0500
TZOFFSETTO:-0400
TZNAME:EDT
DTSTART:20250309T070000
END:DAYLIGHT
BEGIN:STANDARD
TZOFFSETFROM:-0400
TZOFFSETTO:-0500
TZNAME:EST
DTSTART:20251102T060000
END:STANDARD
END:VTIMEZONE
BEGIN:VEVENT
DTSTART;VALUE=DATE:20251108
DTEND;VALUE=DATE:20251109
DTSTAMP:20260424T082203
CREATED:20251011T141311Z
LAST-MODIFIED:20251011T141311Z
UID:163001-1762560000-1762646399@www.northeastohioparent.com
SUMMARY:Kindergarten Countdown
DESCRIPTION:Help your child build kindergarten readiness skills in a program aligned to Ohio’s Early Childhood Standards. Cuyahoga County Library\, various locations\, cuyahogalibary.org
URL:https://www.northeastohioparent.com/event/kindergarten-countdown-2/2025-11-08/
LOCATION:OH\, United States
CATEGORIES:educational,Library
GEO:41.458335;-81.307086
END:VEVENT
END:VCALENDAR