BEGIN:VCALENDAR
VERSION:2.0
PRODID:-//Northeast Ohio Parent - ECPv5.16.4//NONSGML v1.0//EN
CALSCALE:GREGORIAN
METHOD:PUBLISH
X-WR-CALNAME:Northeast Ohio Parent
X-ORIGINAL-URL:https://www.northeastohioparent.com
X-WR-CALDESC:Events for Northeast Ohio Parent
BEGIN:VTIMEZONE
TZID:America/New_York
BEGIN:DAYLIGHT
TZOFFSETFROM:-0500
TZOFFSETTO:-0400
TZNAME:EDT
DTSTART:20250309T070000
END:DAYLIGHT
BEGIN:STANDARD
TZOFFSETFROM:-0400
TZOFFSETTO:-0500
TZNAME:EST
DTSTART:20251102T060000
END:STANDARD
END:VTIMEZONE
BEGIN:VEVENT
DTSTART;TZID=America/New_York:20251231T220000
DTEND;TZID=America/New_York:20251231T220000
DTSTAMP:20260423T191135
CREATED:20251020T145250Z
LAST-MODIFIED:20251020T145250Z
UID:163124-1767218400-1767218400@www.northeastohioparent.com
SUMMARY:Lady Caroline New Year’s Eve Party
DESCRIPTION:Ring in 2026 on the water! This unique end-of-year celebration features spectacular views of Cleveland’s waterfront\, heavy appetizers and hors d’oeuvres\, live entertainment\, party favors\, decorations\, free parking and a champagne toast at midnight.
URL:https://www.northeastohioparent.com/event/lady-caroline-new-years-eve-party/
LOCATION:Lady Caroline\, 1153 Main Avenue\, Cleveland\, OH\, 44113\, United States
ATTACH;FMTTYPE=image/jpeg:https://www.northeastohioparent.com/wp-content/uploads/2025/10/LC_NYE2026_1080x1080.jpg
ORGANIZER;CN="Lady%20Caroline":MAILTO:sales@ladycaroline.com
END:VEVENT
END:VCALENDAR