BEGIN:VCALENDAR
VERSION:2.0
PRODID:-//Northeast Ohio Parent - ECPv5.16.4//NONSGML v1.0//EN
CALSCALE:GREGORIAN
METHOD:PUBLISH
X-WR-CALNAME:Northeast Ohio Parent
X-ORIGINAL-URL:https://www.northeastohioparent.com
X-WR-CALDESC:Events for Northeast Ohio Parent
BEGIN:VTIMEZONE
TZID:America/New_York
BEGIN:DAYLIGHT
TZOFFSETFROM:-0500
TZOFFSETTO:-0400
TZNAME:EDT
DTSTART:20250309T070000
END:DAYLIGHT
BEGIN:STANDARD
TZOFFSETFROM:-0400
TZOFFSETTO:-0500
TZNAME:EST
DTSTART:20251102T060000
END:STANDARD
END:VTIMEZONE
BEGIN:VEVENT
DTSTART;VALUE=DATE:20251206
DTEND;VALUE=DATE:20251207
DTSTAMP:20260422T131918
CREATED:20251008T193840Z
LAST-MODIFIED:20251008T193841Z
UID:162729-1764979200-1765065599@www.northeastohioparent.com
SUMMARY:Light Up Lakewood
DESCRIPTION:The most joyous of Lakewood traditions is returning to Downtown Lakewood for the 16th annual celebration. This is a free\, family-friendly event on Detroit Avenue in Downtown Lakewood. It features a holiday parade\, lighting ceremony\, a beer garden\, holiday train\, live music\, ice carvings\, hot chocolate\, food trucks\, children’s games and more.\n\n\nStroll downtown Lakewood and visit local shops and restaurants while enjoying the sights and sounds of one of Northeast Ohio’s largest holiday celebrations. 4-8 p.m. 
URL:https://www.northeastohioparent.com/event/light-up-lakewood/
LOCATION:Light Up Lakewod\, 14701 Detroit Ave.\, Lakewood\, OH\, United States
CATEGORIES:Holiday,Special Event
ATTACH;FMTTYPE=image/jpeg:https://www.northeastohioparent.com/wp-content/uploads/2025/10/light-up-lakewood-observer-4.jpg
END:VEVENT
END:VCALENDAR