BEGIN:VCALENDAR
VERSION:2.0
PRODID:-//Northeast Ohio Parent - ECPv5.16.4//NONSGML v1.0//EN
CALSCALE:GREGORIAN
METHOD:PUBLISH
X-WR-CALNAME:Northeast Ohio Parent
X-ORIGINAL-URL:https://www.northeastohioparent.com
X-WR-CALDESC:Events for Northeast Ohio Parent
BEGIN:VTIMEZONE
TZID:America/New_York
BEGIN:DAYLIGHT
TZOFFSETFROM:-0500
TZOFFSETTO:-0400
TZNAME:EDT
DTSTART:20260308T070000
END:DAYLIGHT
BEGIN:STANDARD
TZOFFSETFROM:-0400
TZOFFSETTO:-0500
TZNAME:EST
DTSTART:20261101T060000
END:STANDARD
END:VTIMEZONE
BEGIN:VEVENT
DTSTART;VALUE=DATE:20260331
DTEND;VALUE=DATE:20260401
DTSTAMP:20260422T055510
CREATED:20260116T173900Z
LAST-MODIFIED:20260116T173900Z
UID:172360-1774915200-1775001599@www.northeastohioparent.com
SUMMARY:Little Baby Bookworms
DESCRIPTION:Infant-2 year olds can enjoy songs\, fingerplays and more. Through 4/28. 11-11:30 a.m. 
URL:https://www.northeastohioparent.com/event/little-baby-bookworms-6/2026-03-31/
LOCATION:North Canton Public Library\, 185 N. Main Street\, North Canton
CATEGORIES:Baby/Kid 'n Me Event,Library
GEO:40.8771375;-81.4028205
X-APPLE-STRUCTURED-LOCATION;VALUE=URI;X-ADDRESS=North Canton Public Library 185 N. Main Street North Canton;X-APPLE-RADIUS=500;X-TITLE=185 N. Main Street:geo:-81.4028205,40.8771375
END:VEVENT
END:VCALENDAR