BEGIN:VCALENDAR
VERSION:2.0
PRODID:-//Northeast Ohio Parent - ECPv5.16.4//NONSGML v1.0//EN
CALSCALE:GREGORIAN
METHOD:PUBLISH
X-WR-CALNAME:Northeast Ohio Parent
X-ORIGINAL-URL:https://www.northeastohioparent.com
X-WR-CALDESC:Events for Northeast Ohio Parent
BEGIN:VTIMEZONE
TZID:America/New_York
BEGIN:DAYLIGHT
TZOFFSETFROM:-0500
TZOFFSETTO:-0400
TZNAME:EDT
DTSTART:20250309T070000
END:DAYLIGHT
BEGIN:STANDARD
TZOFFSETFROM:-0400
TZOFFSETTO:-0500
TZNAME:EST
DTSTART:20251102T060000
END:STANDARD
END:VTIMEZONE
BEGIN:VEVENT
DTSTART;VALUE=DATE:20251206
DTEND;VALUE=DATE:20251207
DTSTAMP:20260422T045432
CREATED:20251114T171511Z
LAST-MODIFIED:20251114T171511Z
UID:167471-1764979200-1765065599@www.northeastohioparent.com
SUMMARY:Magic of Lights
DESCRIPTION:Family-friendly drive-through of holiday lights. 
URL:https://www.northeastohioparent.com/event/magic-of-lights-4/2025-12-06/
LOCATION:Victory Park  Ohio\, 7777 Victory Lane\, North Ridgreville
CATEGORIES:Holiday,Outdoors,Parks
GEO:41.3785164;-81.97696
X-APPLE-STRUCTURED-LOCATION;VALUE=URI;X-ADDRESS=Victory Park  Ohio 7777 Victory Lane North Ridgreville;X-APPLE-RADIUS=500;X-TITLE=7777 Victory Lane:geo:-81.97696,41.3785164
END:VEVENT
END:VCALENDAR