BEGIN:VCALENDAR
VERSION:2.0
PRODID:-//Northeast Ohio Parent - ECPv5.16.4//NONSGML v1.0//EN
CALSCALE:GREGORIAN
METHOD:PUBLISH
X-WR-CALNAME:Northeast Ohio Parent
X-ORIGINAL-URL:https://www.northeastohioparent.com
X-WR-CALDESC:Events for Northeast Ohio Parent
BEGIN:VTIMEZONE
TZID:America/New_York
BEGIN:DAYLIGHT
TZOFFSETFROM:-0500
TZOFFSETTO:-0400
TZNAME:EDT
DTSTART:20250309T070000
END:DAYLIGHT
BEGIN:STANDARD
TZOFFSETFROM:-0400
TZOFFSETTO:-0500
TZNAME:EST
DTSTART:20251102T060000
END:STANDARD
END:VTIMEZONE
BEGIN:VEVENT
DTSTART;VALUE=DATE:20251016
DTEND;VALUE=DATE:20251017
DTSTAMP:20260425T180011
CREATED:20250916T013046Z
LAST-MODIFIED:20250916T013046Z
UID:160958-1760572800-1760659199@www.northeastohioparent.com
SUMMARY:Mean Green Science Machine
DESCRIPTION:Students and professors from CWRU will lead fun\, interactive science experiments. 2:30-3:30 p.m.
URL:https://www.northeastohioparent.com/event/mean-green-science-machine/
LOCATION:Fulton Branch Library\, 3545 Fulton Rd.\, Cleveland\, OH\, United States
CATEGORIES:Library,Science
END:VEVENT
END:VCALENDAR