BEGIN:VCALENDAR
VERSION:2.0
PRODID:-//Northeast Ohio Parent - ECPv5.16.4//NONSGML v1.0//EN
CALSCALE:GREGORIAN
METHOD:PUBLISH
X-WR-CALNAME:Northeast Ohio Parent
X-ORIGINAL-URL:https://www.northeastohioparent.com
X-WR-CALDESC:Events for Northeast Ohio Parent
BEGIN:VTIMEZONE
TZID:America/New_York
BEGIN:DAYLIGHT
TZOFFSETFROM:-0500
TZOFFSETTO:-0400
TZNAME:EDT
DTSTART:20250309T070000
END:DAYLIGHT
BEGIN:STANDARD
TZOFFSETFROM:-0400
TZOFFSETTO:-0500
TZNAME:EST
DTSTART:20251102T060000
END:STANDARD
END:VTIMEZONE
BEGIN:VEVENT
DTSTART;VALUE=DATE:20251220
DTEND;VALUE=DATE:20251221
DTSTAMP:20260424T002012
CREATED:20251115T201435Z
LAST-MODIFIED:20251115T201435Z
UID:167801-1766188800-1766275199@www.northeastohioparent.com
SUMMARY:Meet the Animals
DESCRIPTION:Celebrate the holidays with wildlife ambassadors and meet some animals up close. 1-2 p.m. & 3-4 p.m.
URL:https://www.northeastohioparent.com/event/meet-the-animals/
LOCATION:Oenslager Nature Center\, 6100 Ridge Rd.\, Sharon Center\, OH\, United States
CATEGORIES:Animals,Nature
END:VEVENT
END:VCALENDAR