BEGIN:VCALENDAR
VERSION:2.0
PRODID:-//Northeast Ohio Parent - ECPv5.16.4//NONSGML v1.0//EN
CALSCALE:GREGORIAN
METHOD:PUBLISH
X-WR-CALNAME:Northeast Ohio Parent
X-ORIGINAL-URL:https://www.northeastohioparent.com
X-WR-CALDESC:Events for Northeast Ohio Parent
BEGIN:VTIMEZONE
TZID:America/New_York
BEGIN:DAYLIGHT
TZOFFSETFROM:-0500
TZOFFSETTO:-0400
TZNAME:EDT
DTSTART:20260308T070000
END:DAYLIGHT
BEGIN:STANDARD
TZOFFSETFROM:-0400
TZOFFSETTO:-0500
TZNAME:EST
DTSTART:20261101T060000
END:STANDARD
END:VTIMEZONE
BEGIN:VEVENT
DTSTART;VALUE=DATE:20260513
DTEND;VALUE=DATE:20260514
DTSTAMP:20260425T192243
CREATED:20260419T025109Z
LAST-MODIFIED:20260419T025110Z
UID:191859-1778630400-1778716799@www.northeastohioparent.com
SUMMARY:Mess Makers at the Akron Art Museum
DESCRIPTION:Park the stroller\, stop & smell the roses\, and wander over to learn\, play\, and explore spring creation stations. Ages 0-5. Registration required. \n\n\nFREE for members. $15 for non-members. *Only one ticket is needed for the entire household to come enjoy the program for the day!* \n\n11 a.m.-1 p.m.
URL:https://www.northeastohioparent.com/event/mess-makers-at-the-akron-art-museum/
LOCATION:Akron Art Museum\, 1 S. High St.\, Akron\, OH\, 44308\, United States
CATEGORIES:Art,Museums
ATTACH;FMTTYPE=image/png:https://www.northeastohioparent.com/wp-content/uploads/2022/03/akronartmuseumlogo.png
GEO:41.084313;-81.5153629
X-APPLE-STRUCTURED-LOCATION;VALUE=URI;X-ADDRESS=Akron Art Museum 1 S. High St. Akron OH 44308 United States;X-APPLE-RADIUS=500;X-TITLE=1 S. High St.:geo:-81.5153629,41.084313
END:VEVENT
END:VCALENDAR