BEGIN:VCALENDAR
VERSION:2.0
PRODID:-//Northeast Ohio Parent - ECPv5.16.4//NONSGML v1.0//EN
CALSCALE:GREGORIAN
METHOD:PUBLISH
X-WR-CALNAME:Northeast Ohio Parent
X-ORIGINAL-URL:https://www.northeastohioparent.com
X-WR-CALDESC:Events for Northeast Ohio Parent
BEGIN:VTIMEZONE
TZID:America/New_York
BEGIN:DAYLIGHT
TZOFFSETFROM:-0500
TZOFFSETTO:-0400
TZNAME:EDT
DTSTART:20260308T070000
END:DAYLIGHT
BEGIN:STANDARD
TZOFFSETFROM:-0400
TZOFFSETTO:-0500
TZNAME:EST
DTSTART:20261101T060000
END:STANDARD
END:VTIMEZONE
BEGIN:VEVENT
DTSTART;TZID=America/New_York:20260110T110000
DTEND;TZID=America/New_York:20260110T160000
DTSTAMP:20260423T190440
CREATED:20251231T152113Z
LAST-MODIFIED:20251231T152113Z
UID:171677-1768042800-1768060800@www.northeastohioparent.com
SUMMARY:Mini Monster Course at the Akron Zoo
DESCRIPTION:Visit the zoo Jan. 5 – Feb. 1 and enjoy Akron Children’s Museum Mini Monster Course. The Mini Monster Course is a child-friendly\, indoor obstacle course that includes a tunnel\, balance beam\, stair steps\, stepping stones and more!\n\n\n\nDuring this partnership\, Akron Zoo and Akron Children’s Museum members will receive buy one\, get one half off admission!\n\n\nThe Mini Monster Course is included with General Admission and is FREE for Akron Zoo members.
URL:https://www.northeastohioparent.com/event/mini-monster-course-at-the-akron-zoo/2026-01-10/
LOCATION:Akron Zoo\, 505 Euclid Ave\, Akron\, OH\, 44307\, United States
CATEGORIES:Special Event,Zoo
ATTACH;FMTTYPE=image/jpeg:https://www.northeastohioparent.com/wp-content/uploads/2025/12/Screenshot-2025-12-31-at-10.17.04-AM.jpg
END:VEVENT
END:VCALENDAR