BEGIN:VCALENDAR
VERSION:2.0
PRODID:-//Northeast Ohio Parent - ECPv5.16.4//NONSGML v1.0//EN
CALSCALE:GREGORIAN
METHOD:PUBLISH
X-WR-CALNAME:Northeast Ohio Parent
X-ORIGINAL-URL:https://www.northeastohioparent.com
X-WR-CALDESC:Events for Northeast Ohio Parent
BEGIN:VTIMEZONE
TZID:America/New_York
BEGIN:DAYLIGHT
TZOFFSETFROM:-0500
TZOFFSETTO:-0400
TZNAME:EDT
DTSTART:20260308T070000
END:DAYLIGHT
BEGIN:STANDARD
TZOFFSETFROM:-0400
TZOFFSETTO:-0500
TZNAME:EST
DTSTART:20261101T060000
END:STANDARD
END:VTIMEZONE
BEGIN:VEVENT
DTSTART;VALUE=DATE:20260515
DTEND;VALUE=DATE:20260516
DTSTAMP:20260425T191608
CREATED:20260417T220055Z
LAST-MODIFIED:20260417T220055Z
UID:191680-1778803200-1778889599@www.northeastohioparent.com
SUMMARY:Mother & Son Dance
DESCRIPTION:Mothers and sons\, It’s time for fun! Dance to DJ Jesse Webb Entertainment\, games and more. Space is limited; register early! Light snacks are included. Ages 4+.\n\n\nResident: $20/Non-Resident: $25\n\n \n\n\n 7-9 p.m. 
URL:https://www.northeastohioparent.com/event/mother-son-dance/
LOCATION:Wildwood Cultural Center\, 7546 Little Mountain Road\, Mentor\, 44060
CATEGORIES:Dancing,Mother's Day
ATTACH;FMTTYPE=image/jpeg:https://www.northeastohioparent.com/wp-content/uploads/2026/04/mothersondance.jpeg
END:VEVENT
END:VCALENDAR