BEGIN:VCALENDAR
VERSION:2.0
PRODID:-//Northeast Ohio Parent - ECPv5.16.4//NONSGML v1.0//EN
CALSCALE:GREGORIAN
METHOD:PUBLISH
X-WR-CALNAME:Northeast Ohio Parent
X-ORIGINAL-URL:https://www.northeastohioparent.com
X-WR-CALDESC:Events for Northeast Ohio Parent
BEGIN:VTIMEZONE
TZID:America/New_York
BEGIN:DAYLIGHT
TZOFFSETFROM:-0500
TZOFFSETTO:-0400
TZNAME:EDT
DTSTART:20260308T070000
END:DAYLIGHT
BEGIN:STANDARD
TZOFFSETFROM:-0400
TZOFFSETTO:-0500
TZNAME:EST
DTSTART:20261101T060000
END:STANDARD
END:VTIMEZONE
BEGIN:VEVENT
DTSTART;VALUE=DATE:20260504
DTEND;VALUE=DATE:20260505
DTSTAMP:20260424T054202
CREATED:20260417T172814Z
LAST-MODIFIED:20260417T172814Z
UID:191648-1777852800-1777939199@www.northeastohioparent.com
SUMMARY:Mother's Day Story & Craft
DESCRIPTION:Enjoy stories\, movement\, and crafts all celebrating Mom. Ages 2-5. 11 a.m.-12 p.m. 
URL:https://www.northeastohioparent.com/event/mothers-day-story-craft/
LOCATION:Chardon Library\, 110 East Park St.
CATEGORIES:Crafts,Library,Mother's Day,Storytimes
GEO:39.551971;-89.295636
X-APPLE-STRUCTURED-LOCATION;VALUE=URI;X-ADDRESS=Chardon Library 110 East Park St.;X-APPLE-RADIUS=500;X-TITLE=110 East Park St.:geo:-89.295636,39.551971
END:VEVENT
END:VCALENDAR