BEGIN:VCALENDAR
VERSION:2.0
PRODID:-//Northeast Ohio Parent - ECPv5.16.4//NONSGML v1.0//EN
CALSCALE:GREGORIAN
METHOD:PUBLISH
X-WR-CALNAME:Northeast Ohio Parent
X-ORIGINAL-URL:https://www.northeastohioparent.com
X-WR-CALDESC:Events for Northeast Ohio Parent
BEGIN:VTIMEZONE
TZID:America/New_York
BEGIN:DAYLIGHT
TZOFFSETFROM:-0500
TZOFFSETTO:-0400
TZNAME:EDT
DTSTART:20260308T070000
END:DAYLIGHT
BEGIN:STANDARD
TZOFFSETFROM:-0400
TZOFFSETTO:-0500
TZNAME:EST
DTSTART:20261101T060000
END:STANDARD
END:VTIMEZONE
BEGIN:VEVENT
DTSTART;VALUE=DATE:20260613
DTEND;VALUE=DATE:20260614
DTSTAMP:20260422T220338
CREATED:20260420T210909Z
LAST-MODIFIED:20260420T210909Z
UID:192003-1781308800-1781395199@www.northeastohioparent.com
SUMMARY:Movie Night: Finding Nemo
DESCRIPTION:Bring the family out to come watch Finding Nemo (Rated G) with pre-show activities at 6 p.m. and the movie starting at 7 p.m. Don’t forget the  blankets\, lawn chairs and refreshments and prepare for an outdoor movie night. 6-10 p.m. 
URL:https://www.northeastohioparent.com/event/movie-night-finding-nemo/
LOCATION:Observatory Park\, 10610 Clay Street\, Montville Township\, United States
CATEGORIES:Movie,Parks
ATTACH;FMTTYPE=image/jpeg:https://www.northeastohioparent.com/wp-content/uploads/2026/04/nemo.jpeg
GEO:41.5838961;-81.0715079
X-APPLE-STRUCTURED-LOCATION;VALUE=URI;X-ADDRESS=Observatory Park 10610 Clay Street Montville Township United States;X-APPLE-RADIUS=500;X-TITLE=10610 Clay Street:geo:-81.0715079,41.5838961
END:VEVENT
END:VCALENDAR