BEGIN:VCALENDAR
VERSION:2.0
PRODID:-//Northeast Ohio Parent - ECPv5.16.4//NONSGML v1.0//EN
CALSCALE:GREGORIAN
METHOD:PUBLISH
X-WR-CALNAME:Northeast Ohio Parent
X-ORIGINAL-URL:https://www.northeastohioparent.com
X-WR-CALDESC:Events for Northeast Ohio Parent
BEGIN:VTIMEZONE
TZID:America/New_York
BEGIN:DAYLIGHT
TZOFFSETFROM:-0500
TZOFFSETTO:-0400
TZNAME:EDT
DTSTART:20250309T070000
END:DAYLIGHT
BEGIN:STANDARD
TZOFFSETFROM:-0400
TZOFFSETTO:-0500
TZNAME:EST
DTSTART:20251102T060000
END:STANDARD
END:VTIMEZONE
BEGIN:VEVENT
DTSTART;TZID=America/New_York:20250912T100000
DTEND;TZID=America/New_York:20250912T170000
DTSTAMP:20260425T185034
CREATED:20250901T181405Z
LAST-MODIFIED:20250911T135027Z
UID:160126-1757671200-1757696400@www.northeastohioparent.com
SUMMARY:NASA Discovery Days at the Great Lakes Science Center
DESCRIPTION:In celebration of Ohio Space Week\, NASA’s Glenn Research Center in Cleveland is bringing an immersive experience to Great Lakes Science Center\, home of the NASA Glenn Visitor Center\, on Sept. 12 and 13. This event is free and open to the public from 10 a.m. to 5 p.m. both days.\n\n\nAt Discovery Days\, attendees can learn firsthand about NASA’s major missions and cutting-edge technology. Demonstrations and exhibits will tell the story of human ingenuity as we prepare for our return to the Moon with the Artemis campaign and work to develop power\, propulsion\, and communications systems to take us to Mars and beyond.\n\n \n\n\nDesigned to bring NASA outside the gates and into the community\, Discovery Days also will feature augmented and virtual reality (AR/VR) simulations that show guests what it’s like to take a supersonic flight and venture into space. Guests can meet real NASA astronauts\, engineers\, and scientists who make the seemingly impossible\, possible.\n\n\nDiscovery Days is open from 10 a.m. to 5 p.m. Friday and Saturday and is free to all visitors. For more information on NASA at Discovery Days\, visit https://www.nasa.gov/nasa-at-discovery-days/
URL:https://www.northeastohioparent.com/event/nasa-discovery-days-at-the-great-lakes-science-center/
LOCATION:Great Lakes Science Center\, 601 Erieside Ave.\, Cleveland\, United States
CATEGORIES:educational,Museums,Science,Special Events
ATTACH;FMTTYPE=image/jpeg:https://www.northeastohioparent.com/wp-content/uploads/2025/09/IMG_7003.jpg
GEO:41.5074299;-81.697313
X-APPLE-STRUCTURED-LOCATION;VALUE=URI;X-ADDRESS=Great Lakes Science Center 601 Erieside Ave. Cleveland United States;X-APPLE-RADIUS=500;X-TITLE=601 Erieside Ave.:geo:-81.697313,41.5074299
END:VEVENT
END:VCALENDAR