BEGIN:VCALENDAR
VERSION:2.0
PRODID:-//Northeast Ohio Parent - ECPv5.16.4//NONSGML v1.0//EN
CALSCALE:GREGORIAN
METHOD:PUBLISH
X-WR-CALNAME:Northeast Ohio Parent
X-ORIGINAL-URL:https://www.northeastohioparent.com
X-WR-CALDESC:Events for Northeast Ohio Parent
BEGIN:VTIMEZONE
TZID:America/New_York
BEGIN:DAYLIGHT
TZOFFSETFROM:-0500
TZOFFSETTO:-0400
TZNAME:EDT
DTSTART:20250309T070000
END:DAYLIGHT
BEGIN:STANDARD
TZOFFSETFROM:-0400
TZOFFSETTO:-0500
TZNAME:EST
DTSTART:20251102T060000
END:STANDARD
END:VTIMEZONE
BEGIN:VEVENT
DTSTART;VALUE=DATE:20250410
DTEND;VALUE=DATE:20250411
DTSTAMP:20260425T071738
CREATED:20250323T175947Z
LAST-MODIFIED:20250323T175948Z
UID:152801-1744243200-1744329599@www.northeastohioparent.com
SUMMARY:Newsy Mom Playdates
DESCRIPTION:Stories and activities on the 2nd Thursday Monthly. 11 a.m.-Noon.
URL:https://www.northeastohioparent.com/event/newsy-mom-playdates-5/2025-04-10/
LOCATION:Belden Village Mall\, 4230 Belden Village St NW\, Canton\, 44718
CATEGORIES:Storytimes
ATTACH;FMTTYPE=image/jpeg:https://www.northeastohioparent.com/wp-content/uploads/2019/06/water-play-toddler.jpg
GEO:40.856734;-81.431308
X-APPLE-STRUCTURED-LOCATION;VALUE=URI;X-ADDRESS=Belden Village Mall 4230 Belden Village St NW Canton 44718;X-APPLE-RADIUS=500;X-TITLE=4230 Belden Village St NW:geo:-81.431308,40.856734
END:VEVENT
END:VCALENDAR