BEGIN:VCALENDAR
VERSION:2.0
PRODID:-//Northeast Ohio Parent - ECPv5.16.4//NONSGML v1.0//EN
CALSCALE:GREGORIAN
METHOD:PUBLISH
X-WR-CALNAME:Northeast Ohio Parent
X-ORIGINAL-URL:https://www.northeastohioparent.com
X-WR-CALDESC:Events for Northeast Ohio Parent
BEGIN:VTIMEZONE
TZID:America/New_York
BEGIN:DAYLIGHT
TZOFFSETFROM:-0500
TZOFFSETTO:-0400
TZNAME:EDT
DTSTART:20250309T070000
END:DAYLIGHT
BEGIN:STANDARD
TZOFFSETFROM:-0400
TZOFFSETTO:-0500
TZNAME:EST
DTSTART:20251102T060000
END:STANDARD
END:VTIMEZONE
BEGIN:VEVENT
DTSTART;TZID=America/New_York:20251231T120000
DTEND;TZID=America/New_York:20251231T140000
DTSTAMP:20260423T190239
CREATED:20251020T145253Z
LAST-MODIFIED:20251020T145253Z
UID:163157-1767182400-1767189600@www.northeastohioparent.com
SUMMARY:Noon Year’s Eve on the Water
DESCRIPTION:Welcome the New Year without losing sleep aboard Lady Caroline’s family friendly Noon Year’s Eve cruise featuring lunch\, a DJ\, countdown and sparkling toast at noon! \n\n\nBetween festivities\, take a walk around the ship’s three climate-controlled levels and enjoy panoramic skyline views of Cleveland from the open-air observation deck. On Lady Caroline\, every cruise is a celebration.
URL:https://www.northeastohioparent.com/event/noon-years-eve-on-the-water/
LOCATION:Lady Caroline\, 1153 Main Avenue\, Cleveland\, OH\, 44113\, United States
ATTACH;FMTTYPE=image/jpeg:https://www.northeastohioparent.com/wp-content/uploads/2025/10/24NoonYearsEve.jpg
ORGANIZER;CN="Lady%20Caroline":MAILTO:sales@ladycaroline.com
END:VEVENT
END:VCALENDAR