BEGIN:VCALENDAR
VERSION:2.0
PRODID:-//Northeast Ohio Parent - ECPv5.16.4//NONSGML v1.0//EN
CALSCALE:GREGORIAN
METHOD:PUBLISH
X-WR-CALNAME:Northeast Ohio Parent
X-ORIGINAL-URL:https://www.northeastohioparent.com
X-WR-CALDESC:Events for Northeast Ohio Parent
BEGIN:VTIMEZONE
TZID:America/New_York
BEGIN:DAYLIGHT
TZOFFSETFROM:-0500
TZOFFSETTO:-0400
TZNAME:EDT
DTSTART:20250309T070000
END:DAYLIGHT
BEGIN:STANDARD
TZOFFSETFROM:-0400
TZOFFSETTO:-0500
TZNAME:EST
DTSTART:20251102T060000
END:STANDARD
END:VTIMEZONE
BEGIN:VEVENT
DTSTART;VALUE=DATE:20251231
DTEND;VALUE=DATE:20260101
DTSTAMP:20260423T214142
CREATED:20251114T203900Z
LAST-MODIFIED:20251114T203900Z
UID:167605-1767139200-1767225599@www.northeastohioparent.com
SUMMARY:Noon Years Eve Party
DESCRIPTION:Enjoy a dance party\, crafts\, and games to ring in the new year. 11 a.m.-12 p.m. 
URL:https://www.northeastohioparent.com/event/noon-years-eve-party/
LOCATION:Firestone Park Branch Library\, 1486 Aster Ave\, Akron\, OH\, United States
CATEGORIES:Library,New Year's Eve
GEO:41.042639;-81.51491
X-APPLE-STRUCTURED-LOCATION;VALUE=URI;X-ADDRESS=Firestone Park Branch Library 1486 Aster Ave Akron OH United States;X-APPLE-RADIUS=500;X-TITLE=1486 Aster Ave:geo:-81.51491,41.042639
END:VEVENT
END:VCALENDAR