BEGIN:VCALENDAR
VERSION:2.0
PRODID:-//Northeast Ohio Parent - ECPv5.16.4//NONSGML v1.0//EN
CALSCALE:GREGORIAN
METHOD:PUBLISH
X-WR-CALNAME:Northeast Ohio Parent
X-ORIGINAL-URL:https://www.northeastohioparent.com
X-WR-CALDESC:Events for Northeast Ohio Parent
BEGIN:VTIMEZONE
TZID:America/New_York
BEGIN:DAYLIGHT
TZOFFSETFROM:-0500
TZOFFSETTO:-0400
TZNAME:EDT
DTSTART:20260308T070000
END:DAYLIGHT
BEGIN:STANDARD
TZOFFSETFROM:-0400
TZOFFSETTO:-0500
TZNAME:EST
DTSTART:20261101T060000
END:STANDARD
END:VTIMEZONE
BEGIN:VEVENT
DTSTART;VALUE=DATE:20260815
DTEND;VALUE=DATE:20260816
DTSTAMP:20260425T191720
CREATED:20260423T202231Z
LAST-MODIFIED:20260423T202231Z
UID:192218-1786752000-1786838399@www.northeastohioparent.com
SUMMARY:Once Upon a Story
DESCRIPTION:Join in the fun with: stories\, crafts\, songs\, and more to celebrate the tales that bring pure joy. 5/9-10/3. 11 a.m.-12 p.m. 
URL:https://www.northeastohioparent.com/event/once-upon-a-story/2026-08-15/
LOCATION:Jefferson Branch Library\, 850 Jefferson Ave.\, Cleveland\, OH
CATEGORIES:Baby/Kid 'n Me Event,Crafts,Music,Storytimes
ATTACH;FMTTYPE=image/jpeg:https://www.northeastohioparent.com/wp-content/uploads/2026/03/bigstock-mother-reads-a-book.jpg
END:VEVENT
END:VCALENDAR