BEGIN:VCALENDAR
VERSION:2.0
PRODID:-//Northeast Ohio Parent - ECPv5.16.4//NONSGML v1.0//EN
CALSCALE:GREGORIAN
METHOD:PUBLISH
X-WR-CALNAME:Northeast Ohio Parent
X-ORIGINAL-URL:https://www.northeastohioparent.com
X-WR-CALDESC:Events for Northeast Ohio Parent
BEGIN:VTIMEZONE
TZID:America/New_York
BEGIN:DAYLIGHT
TZOFFSETFROM:-0500
TZOFFSETTO:-0400
TZNAME:EDT
DTSTART:20250309T070000
END:DAYLIGHT
BEGIN:STANDARD
TZOFFSETFROM:-0400
TZOFFSETTO:-0500
TZNAME:EST
DTSTART:20251102T060000
END:STANDARD
END:VTIMEZONE
BEGIN:VEVENT
DTSTART;TZID=America/New_York:20251115T130000
DTEND;TZID=America/New_York:20251115T150000
DTSTAMP:20260424T225330
CREATED:20251113T201041Z
LAST-MODIFIED:20251113T201041Z
UID:165050-1763211600-1763218800@www.northeastohioparent.com
SUMMARY:Open Studios: Chardon - Harvest
DESCRIPTION:Welcome to the Fairmount Chardon Open Studios: Harvest event!\n\n\nJoin us at Fairmount Center for the Arts Chardon on November 15\, 2025 at 1:00 PM for a day filled with art\, creativity\, and community surrounded by a harvest time theme.
URL:https://www.northeastohioparent.com/event/open-studios-chardon-harvest/
LOCATION:Fairmount Center for the Arts – Chardon\, 106 Water Street\, Chardon\, 44024
ATTACH;FMTTYPE=image/jpeg:https://www.northeastohioparent.com/wp-content/uploads/2025/11/Harvest-Chardon.jpg
ORGANIZER;CN="Fairmount%20Center%20for%20the%20Arts":MAILTO:info@fairmountcenter.org
END:VEVENT
END:VCALENDAR