BEGIN:VCALENDAR
VERSION:2.0
PRODID:-//Northeast Ohio Parent - ECPv5.16.4//NONSGML v1.0//EN
CALSCALE:GREGORIAN
METHOD:PUBLISH
X-WR-CALNAME:Northeast Ohio Parent
X-ORIGINAL-URL:https://www.northeastohioparent.com
X-WR-CALDESC:Events for Northeast Ohio Parent
BEGIN:VTIMEZONE
TZID:America/New_York
BEGIN:DAYLIGHT
TZOFFSETFROM:-0500
TZOFFSETTO:-0400
TZNAME:EDT
DTSTART:20260308T070000
END:DAYLIGHT
BEGIN:STANDARD
TZOFFSETFROM:-0400
TZOFFSETTO:-0500
TZNAME:EST
DTSTART:20261101T060000
END:STANDARD
END:VTIMEZONE
BEGIN:VEVENT
DTSTART;VALUE=DATE:20260530
DTEND;VALUE=DATE:20260531
DTSTAMP:20260421T125020
CREATED:20260418T161246Z
LAST-MODIFIED:20260418T161246Z
UID:191788-1780099200-1780185599@www.northeastohioparent.com
SUMMARY:P.A.L.S. Sensory Friendly Movie: How to Train Your Dragon
DESCRIPTION:The sound is lower\, the lights are brighter and talking is acceptable. 11 a.m.-1 p.m. 
URL:https://www.northeastohioparent.com/event/p-a-l-s-sensory-friendly-movie-how-to-train-your-dragon/
LOCATION:Parma-Snow Branch Library\, 2121 Snow Road\, Parma\, OH\, United States
CATEGORIES:Library,Special Needs
END:VEVENT
END:VCALENDAR