BEGIN:VCALENDAR
VERSION:2.0
PRODID:-//Northeast Ohio Parent - ECPv5.16.4//NONSGML v1.0//EN
CALSCALE:GREGORIAN
METHOD:PUBLISH
X-WR-CALNAME:Northeast Ohio Parent
X-ORIGINAL-URL:https://www.northeastohioparent.com
X-WR-CALDESC:Events for Northeast Ohio Parent
BEGIN:VTIMEZONE
TZID:America/New_York
BEGIN:DAYLIGHT
TZOFFSETFROM:-0500
TZOFFSETTO:-0400
TZNAME:EDT
DTSTART:20250309T070000
END:DAYLIGHT
BEGIN:STANDARD
TZOFFSETFROM:-0400
TZOFFSETTO:-0500
TZNAME:EST
DTSTART:20251102T060000
END:STANDARD
END:VTIMEZONE
BEGIN:VEVENT
DTSTART;VALUE=DATE:20251112
DTEND;VALUE=DATE:20251113
DTSTAMP:20260424T184410
CREATED:20251011T134123Z
LAST-MODIFIED:20251011T134123Z
UID:162979-1762905600-1762991999@www.northeastohioparent.com
SUMMARY:Pajama Story Time
DESCRIPTION:Head to the library for a pajama story time. 6:30-7 p.m. 
URL:https://www.northeastohioparent.com/event/pajama-story-time-3/2025-11-12/
LOCATION:Wadsworth  Public Library\, 132 Broad Street\, Wadsworth\, United States
CATEGORIES:Library,Special Events
ATTACH;FMTTYPE=image/webp:https://www.northeastohioparent.com/wp-content/uploads/2025/10/pajama-storytime.webp
GEO:41.0259201;-81.7281975
X-APPLE-STRUCTURED-LOCATION;VALUE=URI;X-ADDRESS=Wadsworth  Public Library 132 Broad Street Wadsworth United States;X-APPLE-RADIUS=500;X-TITLE=132 Broad Street:geo:-81.7281975,41.0259201
END:VEVENT
END:VCALENDAR