BEGIN:VCALENDAR
VERSION:2.0
PRODID:-//Northeast Ohio Parent - ECPv5.16.4//NONSGML v1.0//EN
CALSCALE:GREGORIAN
METHOD:PUBLISH
X-WR-CALNAME:Northeast Ohio Parent
X-ORIGINAL-URL:https://www.northeastohioparent.com
X-WR-CALDESC:Events for Northeast Ohio Parent
BEGIN:VTIMEZONE
TZID:America/New_York
BEGIN:DAYLIGHT
TZOFFSETFROM:-0500
TZOFFSETTO:-0400
TZNAME:EDT
DTSTART:20250309T070000
END:DAYLIGHT
BEGIN:STANDARD
TZOFFSETFROM:-0400
TZOFFSETTO:-0500
TZNAME:EST
DTSTART:20251102T060000
END:STANDARD
END:VTIMEZONE
BEGIN:VEVENT
DTSTART;VALUE=DATE:20251205
DTEND;VALUE=DATE:20251206
DTSTAMP:20260424T142629
CREATED:20251115T184311Z
LAST-MODIFIED:20251115T184311Z
UID:167733-1764892800-1764979199@www.northeastohioparent.com
SUMMARY:Planetarium Show: Season of Light
DESCRIPTION:Explore the historical religious and cultural rituals practiced during the time of winter solstice. 7-8 p.m.
URL:https://www.northeastohioparent.com/event/planetarium-show-season-of-light/
LOCATION:The Wilderness Center\, 9877 Alabama Ave\, Wilmot\, OH\, 44689\, United States
CATEGORIES:Culture,Science
END:VEVENT
END:VCALENDAR