BEGIN:VCALENDAR
VERSION:2.0
PRODID:-//Northeast Ohio Parent - ECPv5.16.4//NONSGML v1.0//EN
CALSCALE:GREGORIAN
METHOD:PUBLISH
X-WR-CALNAME:Northeast Ohio Parent
X-ORIGINAL-URL:https://www.northeastohioparent.com
X-WR-CALDESC:Events for Northeast Ohio Parent
BEGIN:VTIMEZONE
TZID:America/New_York
BEGIN:DAYLIGHT
TZOFFSETFROM:-0500
TZOFFSETTO:-0400
TZNAME:EDT
DTSTART:20250309T070000
END:DAYLIGHT
BEGIN:STANDARD
TZOFFSETFROM:-0400
TZOFFSETTO:-0500
TZNAME:EST
DTSTART:20251102T060000
END:STANDARD
END:VTIMEZONE
BEGIN:VEVENT
DTSTART;VALUE=DATE:20250814
DTEND;VALUE=DATE:20250815
DTSTAMP:20260419T202632
CREATED:20250803T223008Z
LAST-MODIFIED:20250803T223008Z
UID:157996-1755129600-1755215999@www.northeastohioparent.com
SUMMARY:Pop Up Family Program
DESCRIPTION:Learn about the history of toys & games. 1-2 p.m. 
URL:https://www.northeastohioparent.com/event/pop-up-family-program/
LOCATION:Cleveland History Center of the Western Reserve Historical Society\, 10825 East Blvd
CATEGORIES:educational,History
END:VEVENT
END:VCALENDAR