BEGIN:VCALENDAR
VERSION:2.0
PRODID:-//Northeast Ohio Parent - ECPv5.16.4//NONSGML v1.0//EN
CALSCALE:GREGORIAN
METHOD:PUBLISH
X-WR-CALNAME:Northeast Ohio Parent
X-ORIGINAL-URL:https://www.northeastohioparent.com
X-WR-CALDESC:Events for Northeast Ohio Parent
BEGIN:VTIMEZONE
TZID:America/New_York
BEGIN:DAYLIGHT
TZOFFSETFROM:-0500
TZOFFSETTO:-0400
TZNAME:EDT
DTSTART:20260308T070000
END:DAYLIGHT
BEGIN:STANDARD
TZOFFSETFROM:-0400
TZOFFSETTO:-0500
TZNAME:EST
DTSTART:20261101T060000
END:STANDARD
END:VTIMEZONE
BEGIN:VEVENT
DTSTART;VALUE=DATE:20260108
DTEND;VALUE=DATE:20260109
DTSTAMP:20260423T190138
CREATED:20251208T222325Z
LAST-MODIFIED:20251208T222325Z
UID:170569-1767830400-1767916799@www.northeastohioparent.com
SUMMARY:Pre-K Explorers Drop-In
DESCRIPTION:Children can enjoy new\, seasonal themes full of outdoor exploration and play. 8:30-10:30 a.m. 
URL:https://www.northeastohioparent.com/event/pre-k-explorers-drop-in-2/
LOCATION:The Nature Center at Shaker Lakes\, 2600 South Park Boulevard\, Shaker Heights
CATEGORIES:educational,Nature,Parks
GEO:41.4850806;-81.5745232
X-APPLE-STRUCTURED-LOCATION;VALUE=URI;X-ADDRESS=The Nature Center at Shaker Lakes 2600 South Park Boulevard Shaker Heights;X-APPLE-RADIUS=500;X-TITLE=2600 South Park Boulevard:geo:-81.5745232,41.4850806
END:VEVENT
END:VCALENDAR