BEGIN:VCALENDAR
VERSION:2.0
PRODID:-//Northeast Ohio Parent - ECPv5.16.4//NONSGML v1.0//EN
CALSCALE:GREGORIAN
METHOD:PUBLISH
X-WR-CALNAME:Northeast Ohio Parent
X-ORIGINAL-URL:https://www.northeastohioparent.com
X-WR-CALDESC:Events for Northeast Ohio Parent
BEGIN:VTIMEZONE
TZID:America/New_York
BEGIN:DAYLIGHT
TZOFFSETFROM:-0500
TZOFFSETTO:-0400
TZNAME:EDT
DTSTART:20260308T070000
END:DAYLIGHT
BEGIN:STANDARD
TZOFFSETFROM:-0400
TZOFFSETTO:-0500
TZNAME:EST
DTSTART:20261101T060000
END:STANDARD
END:VTIMEZONE
BEGIN:VEVENT
DTSTART;VALUE=DATE:20260530
DTEND;VALUE=DATE:20260531
DTSTAMP:20260425T231032
CREATED:20260420T164444Z
LAST-MODIFIED:20260420T164444Z
UID:191955-1780099200-1780185599@www.northeastohioparent.com
SUMMARY:Renegade Monster Trucks
DESCRIPTION:Kid General Admission admits anyone into the event for kids under 12. Tickets include entry into the Pre-show Party. $12 if tickets purchased ahead of time. $15 at the door.\n\n\n12:30-2 p.m.
URL:https://www.northeastohioparent.com/event/renegade-monster-trucks/
LOCATION:Cuyahoga County Fairgrounds\, 19201 Bagley Dr\, Middleburg Heights\, OH\, 44130\, United States
CATEGORIES:Special Event
ATTACH;FMTTYPE=image/webp:https://www.northeastohioparent.com/wp-content/uploads/2026/04/thumb_berea_FBcover.webp
END:VEVENT
END:VCALENDAR