BEGIN:VCALENDAR
VERSION:2.0
PRODID:-//Northeast Ohio Parent - ECPv5.16.4//NONSGML v1.0//EN
CALSCALE:GREGORIAN
METHOD:PUBLISH
X-WR-CALNAME:Northeast Ohio Parent
X-ORIGINAL-URL:https://www.northeastohioparent.com
X-WR-CALDESC:Events for Northeast Ohio Parent
BEGIN:VTIMEZONE
TZID:America/New_York
BEGIN:DAYLIGHT
TZOFFSETFROM:-0500
TZOFFSETTO:-0400
TZNAME:EDT
DTSTART:20250309T070000
END:DAYLIGHT
BEGIN:STANDARD
TZOFFSETFROM:-0400
TZOFFSETTO:-0500
TZNAME:EST
DTSTART:20251102T060000
END:STANDARD
END:VTIMEZONE
BEGIN:VEVENT
DTSTART;VALUE=DATE:20250809
DTEND;VALUE=DATE:20250810
DTSTAMP:20260420T040041
CREATED:20250803T221424Z
LAST-MODIFIED:20250803T221424Z
UID:157984-1754697600-1754783999@www.northeastohioparent.com
SUMMARY:Richard Fry Memorial Derby
DESCRIPTION:For children ages 4-15. Bait will be provided. Bring your own pole. 8 a.m.
URL:https://www.northeastohioparent.com/event/richard-fry-memorial-derby/
LOCATION:Magnolia Mill Pond\, 261 N. Main St.\, Magnolia\, OH\, United States
CATEGORIES:Memorial Day,Parks
END:VEVENT
END:VCALENDAR