BEGIN:VCALENDAR
VERSION:2.0
PRODID:-//Northeast Ohio Parent - ECPv5.16.4//NONSGML v1.0//EN
CALSCALE:GREGORIAN
METHOD:PUBLISH
X-WR-CALNAME:Northeast Ohio Parent
X-ORIGINAL-URL:https://www.northeastohioparent.com
X-WR-CALDESC:Events for Northeast Ohio Parent
BEGIN:VTIMEZONE
TZID:America/New_York
BEGIN:DAYLIGHT
TZOFFSETFROM:-0500
TZOFFSETTO:-0400
TZNAME:EDT
DTSTART:20260308T070000
END:DAYLIGHT
BEGIN:STANDARD
TZOFFSETFROM:-0400
TZOFFSETTO:-0500
TZNAME:EST
DTSTART:20261101T060000
END:STANDARD
END:VTIMEZONE
BEGIN:VEVENT
DTSTART;VALUE=DATE:20260604
DTEND;VALUE=DATE:20260605
DTSTAMP:20260422T221048
CREATED:20260420T165742Z
LAST-MODIFIED:20260420T165742Z
UID:191965-1780531200-1780617599@www.northeastohioparent.com
SUMMARY:Safetyville
DESCRIPTION:Safetyville is sponsored by the Police Department and will educate children on various safety topics. Children learn about traffic\, school buses\, stranger danger\, 911\, and fire safety. Children entering kindergarten receive lessons inside a classroom and then practice these lessons outside within a realistic miniature village.\n\nRegistration opens each April through the North Ridgeville Parks and Recreation website. Look for the Spring/Summer Parks and Recreation program guide for more details and important dates. For more information\, contact Somer Oliva at (440) 490-2017.\n 
URL:https://www.northeastohioparent.com/event/safetyville/2026-06-04/
LOCATION:City of North Ridgeville\, North Ridgeville\, OH\, United States
CATEGORIES:educational,Special Event
ATTACH;FMTTYPE=image/jpeg:https://www.northeastohioparent.com/wp-content/uploads/2026/04/safetytown.jpg
END:VEVENT
END:VCALENDAR