BEGIN:VCALENDAR
VERSION:2.0
PRODID:-//Northeast Ohio Parent - ECPv5.16.4//NONSGML v1.0//EN
CALSCALE:GREGORIAN
METHOD:PUBLISH
X-WR-CALNAME:Northeast Ohio Parent
X-ORIGINAL-URL:https://www.northeastohioparent.com
X-WR-CALDESC:Events for Northeast Ohio Parent
BEGIN:VTIMEZONE
TZID:America/New_York
BEGIN:DAYLIGHT
TZOFFSETFROM:-0500
TZOFFSETTO:-0400
TZNAME:EDT
DTSTART:20250309T070000
END:DAYLIGHT
BEGIN:STANDARD
TZOFFSETFROM:-0400
TZOFFSETTO:-0500
TZNAME:EST
DTSTART:20251102T060000
END:STANDARD
END:VTIMEZONE
BEGIN:VEVENT
DTSTART;VALUE=DATE:20251205
DTEND;VALUE=DATE:20251206
DTSTAMP:20260422T162437
CREATED:20251008T193043Z
LAST-MODIFIED:20251008T193043Z
UID:162727-1764892800-1764979199@www.northeastohioparent.com
SUMMARY:Santa Claus and Furry Paws
DESCRIPTION:Crafts\, activities\, photos\, stuffed animal hospital and watch animals open gifts from Santa. 6-8 p.m. 
URL:https://www.northeastohioparent.com/event/santa-claus-and-furry-paws/
LOCATION:Sippo Lake Park North\, 5712 12 St. NW\, Canton\, OH\, United States
CATEGORIES:Holiday,Parks
END:VEVENT
END:VCALENDAR