BEGIN:VCALENDAR
VERSION:2.0
PRODID:-//Northeast Ohio Parent - ECPv5.16.4//NONSGML v1.0//EN
CALSCALE:GREGORIAN
METHOD:PUBLISH
X-WR-CALNAME:Northeast Ohio Parent
X-ORIGINAL-URL:https://www.northeastohioparent.com
X-WR-CALDESC:Events for Northeast Ohio Parent
BEGIN:VTIMEZONE
TZID:America/New_York
BEGIN:DAYLIGHT
TZOFFSETFROM:-0500
TZOFFSETTO:-0400
TZNAME:EDT
DTSTART:20250309T070000
END:DAYLIGHT
BEGIN:STANDARD
TZOFFSETFROM:-0400
TZOFFSETTO:-0500
TZNAME:EST
DTSTART:20251102T060000
END:STANDARD
END:VTIMEZONE
BEGIN:VEVENT
DTSTART;VALUE=DATE:20251206
DTEND;VALUE=DATE:20251207
DTSTAMP:20260424T113454
CREATED:20251008T194740Z
LAST-MODIFIED:20251008T194741Z
UID:162732-1764979200-1765065599@www.northeastohioparent.com
SUMMARY:Santa on the Green
DESCRIPTION:Santa on the Green is sponsored by the Rotary Club of Hudson. It has been a tradition in Hudson for over 45 years. During last year’s celebration\, more than 350 children visited Santa assisted by numerous Rotarians.\n\n\n\n\n\nThe event takes place on the Hudson Gazebo Green. Santa will arrive via fire engine at 9 a.m. The Gazebo is a great place for photos with Santa and Mrs. Claus. Hudson’s Restaurant helps keep everyone warm with hot chocolate and  candy canes.\n\nA ticket system has been established that will allow Santa to chat with 20 families an hour for a total of 120 visits.  Tickets will be available at 8:00 a.m. by the Gazebo where visitors will be given a time to get in line for their scheduled Santa visit. This process will helps families avoid long lines.\n\n8 a.m.-3 p.m.
URL:https://www.northeastohioparent.com/event/santa-on-the-green/
LOCATION:Rotary Club of Hudson Scout Cabin\, 2 W. Streetsboro St.\, Hudson\, OH\, United States
CATEGORIES:Holiday,Outdoors
ATTACH;FMTTYPE=image/jpeg:https://www.northeastohioparent.com/wp-content/uploads/2025/10/santa-on-the-green.jpg
END:VEVENT
END:VCALENDAR