BEGIN:VCALENDAR
VERSION:2.0
PRODID:-//Northeast Ohio Parent - ECPv5.16.4//NONSGML v1.0//EN
CALSCALE:GREGORIAN
METHOD:PUBLISH
X-WR-CALNAME:Northeast Ohio Parent
X-ORIGINAL-URL:https://www.northeastohioparent.com
X-WR-CALDESC:Events for Northeast Ohio Parent
BEGIN:VTIMEZONE
TZID:America/New_York
BEGIN:DAYLIGHT
TZOFFSETFROM:-0500
TZOFFSETTO:-0400
TZNAME:EDT
DTSTART:20250309T070000
END:DAYLIGHT
BEGIN:STANDARD
TZOFFSETFROM:-0400
TZOFFSETTO:-0500
TZNAME:EST
DTSTART:20251102T060000
END:STANDARD
END:VTIMEZONE
BEGIN:VEVENT
DTSTART;TZID=America/New_York:20251114T173000
DTEND;TZID=America/New_York:20251114T193000
DTSTAMP:20260423T225346
CREATED:20251008T000800Z
LAST-MODIFIED:20251110T035112Z
UID:162488-1763141400-1763148600@www.northeastohioparent.com
SUMMARY:Santa Parade at Great Northern Mall
DESCRIPTION:Enjoy a Santa Parade\, festive activities and entertainment\, Santa photo opportunities\, vendors\, exhibitors and more on Friday\, November 14 at Great Northern Mall.\n\nThe event starts at 5:30 p.m. with festive activities and entertainment\, character appearances\, stilt walkers\, complimentary hot chocolate and special appearances by the North Olmsted High School Marching Band.\n\nThe Santa Parade steps off at 6 p.m. and guests can watch as the parade begins in the Phoenix Theatres wing\, heads down to Dillard’s\, and then Macy’s\, before ending at Santa’s Sleigh in Center Court.\n\nVendors and Exhibitors include:\n* Century Federal Credit Union\n* CLE Care Urgent Care\n* Freddy’s Frozen Custard\n* Horizon Educators Centers\n* North Olmsted Rec Center\n 5:30-7 p.m. 
URL:https://www.northeastohioparent.com/event/santa-parade/
LOCATION:Great Northern Mall\, 4954 Great Northern Blvd.\, North Olmsted
CATEGORIES:Holiday,Special Event
ATTACH;FMTTYPE=image/jpeg:https://www.northeastohioparent.com/wp-content/uploads/2025/10/Picture2.jpg
GEO:41.4164446;-81.9056175
X-APPLE-STRUCTURED-LOCATION;VALUE=URI;X-ADDRESS=Great Northern Mall 4954 Great Northern Blvd. North Olmsted;X-APPLE-RADIUS=500;X-TITLE=4954 Great Northern Blvd.:geo:-81.9056175,41.4164446
END:VEVENT
END:VCALENDAR