BEGIN:VCALENDAR
VERSION:2.0
PRODID:-//Northeast Ohio Parent - ECPv5.16.4//NONSGML v1.0//EN
CALSCALE:GREGORIAN
METHOD:PUBLISH
X-WR-CALNAME:Northeast Ohio Parent
X-ORIGINAL-URL:https://www.northeastohioparent.com
X-WR-CALDESC:Events for Northeast Ohio Parent
BEGIN:VTIMEZONE
TZID:America/New_York
BEGIN:DAYLIGHT
TZOFFSETFROM:-0500
TZOFFSETTO:-0400
TZNAME:EDT
DTSTART:20260308T070000
END:DAYLIGHT
BEGIN:STANDARD
TZOFFSETFROM:-0400
TZOFFSETTO:-0500
TZNAME:EST
DTSTART:20261101T060000
END:STANDARD
END:VTIMEZONE
BEGIN:VEVENT
DTSTART;VALUE=DATE:20260109
DTEND;VALUE=DATE:20260110
DTSTAMP:20260423T190859
CREATED:20251114T215518Z
LAST-MODIFIED:20251114T215518Z
UID:167653-1767916800-1768003199@www.northeastohioparent.com
SUMMARY:Second Saturday Science
DESCRIPTION:A naturalist answers questions and helps spot marsh wildlife\, including birds\, bees and butterflies. 8 a.m.-12 p.m. 
URL:https://www.northeastohioparent.com/event/second-saturday-science-2/2026-01-09/
LOCATION:Mentor Marsh Nature Center\,  5185 Corduroy Road\, Mentor\, OH\, 44060\, United States
CATEGORIES:Parks,Science
GEO:41.729376;-81.305577
X-APPLE-STRUCTURED-LOCATION;VALUE=URI;X-ADDRESS=Mentor Marsh Nature Center  5185 Corduroy Road Mentor OH 44060 United States;X-APPLE-RADIUS=500;X-TITLE=5185 Corduroy Road:geo:-81.305577,41.729376
END:VEVENT
END:VCALENDAR