BEGIN:VCALENDAR
VERSION:2.0
PRODID:-//Northeast Ohio Parent - ECPv5.16.4//NONSGML v1.0//EN
CALSCALE:GREGORIAN
METHOD:PUBLISH
X-WR-CALNAME:Northeast Ohio Parent
X-ORIGINAL-URL:https://www.northeastohioparent.com
X-WR-CALDESC:Events for Northeast Ohio Parent
BEGIN:VTIMEZONE
TZID:America/New_York
BEGIN:DAYLIGHT
TZOFFSETFROM:-0500
TZOFFSETTO:-0400
TZNAME:EDT
DTSTART:20250309T070000
END:DAYLIGHT
BEGIN:STANDARD
TZOFFSETFROM:-0400
TZOFFSETTO:-0500
TZNAME:EST
DTSTART:20251102T060000
END:STANDARD
END:VTIMEZONE
BEGIN:VEVENT
DTSTART;VALUE=DATE:20250805
DTEND;VALUE=DATE:20250806
DTSTAMP:20260419T142559
CREATED:20250803T185342Z
LAST-MODIFIED:20250803T185342Z
UID:157917-1754352000-1754438399@www.northeastohioparent.com
SUMMARY:Seiberling Explorers
DESCRIPTION:A fun\, educational activity and guided walk around the gardens. Ages 3-6.
URL:https://www.northeastohioparent.com/event/seiberling-explorers/
LOCATION:Stan Hwyet Hall & Gardens\, 714 North Portage Path\, Akron\, OH\, 44303\, United States
CATEGORIES:educational,Garden
END:VEVENT
END:VCALENDAR