BEGIN:VCALENDAR
VERSION:2.0
PRODID:-//Northeast Ohio Parent - ECPv5.16.4//NONSGML v1.0//EN
CALSCALE:GREGORIAN
METHOD:PUBLISH
X-WR-CALNAME:Northeast Ohio Parent
X-ORIGINAL-URL:https://www.northeastohioparent.com
X-WR-CALDESC:Events for Northeast Ohio Parent
BEGIN:VTIMEZONE
TZID:America/New_York
BEGIN:DAYLIGHT
TZOFFSETFROM:-0500
TZOFFSETTO:-0400
TZNAME:EDT
DTSTART:20260308T070000
END:DAYLIGHT
BEGIN:STANDARD
TZOFFSETFROM:-0400
TZOFFSETTO:-0500
TZNAME:EST
DTSTART:20261101T060000
END:STANDARD
END:VTIMEZONE
BEGIN:VEVENT
DTSTART;VALUE=DATE:20260713
DTEND;VALUE=DATE:20260714
DTSTAMP:20260423T002839
CREATED:20260418T140436Z
LAST-MODIFIED:20260418T140436Z
UID:191754-1783900800-1783987199@www.northeastohioparent.com
SUMMARY:Sensory Cinema
DESCRIPTION:A theater environment tailored to attendees with sensory processing challenges and their families. Lower levels of movie sound\, theater lights remaining on\, dietary sensitive offerings\, trained staff and family restrooms. \n\n\n$2 per person\, tickets available online and at the box office starting at 6 p.m. the day of the show.\n\n\nGroups of 10+ can complete our Group Form to reserve a spot\, or call 330-454-8172 by the Friday before the movie.\n\n \n\n\n6:30-8:30 p.m.
URL:https://www.northeastohioparent.com/event/sensory-cinema-2/2026-07-13/
LOCATION:Canton Palace Theatre\, 605 Market Ave North\, Canton\, 44702
CATEGORIES:Special Needs,Theater
ATTACH;FMTTYPE=image/jpeg:https://www.northeastohioparent.com/wp-content/uploads/2026/04/CPT_WebBanner_SensoryCinema_2026_v2.jpg
GEO:40.8022079;-81.3738148
X-APPLE-STRUCTURED-LOCATION;VALUE=URI;X-ADDRESS=Canton Palace Theatre 605 Market Ave North Canton 44702;X-APPLE-RADIUS=500;X-TITLE=605 Market Ave North:geo:-81.3738148,40.8022079
END:VEVENT
END:VCALENDAR