BEGIN:VCALENDAR
VERSION:2.0
PRODID:-//Northeast Ohio Parent - ECPv5.16.4//NONSGML v1.0//EN
CALSCALE:GREGORIAN
METHOD:PUBLISH
X-WR-CALNAME:Northeast Ohio Parent
X-ORIGINAL-URL:https://www.northeastohioparent.com
X-WR-CALDESC:Events for Northeast Ohio Parent
BEGIN:VTIMEZONE
TZID:America/New_York
BEGIN:DAYLIGHT
TZOFFSETFROM:-0500
TZOFFSETTO:-0400
TZNAME:EDT
DTSTART:20250309T070000
END:DAYLIGHT
BEGIN:STANDARD
TZOFFSETFROM:-0400
TZOFFSETTO:-0500
TZNAME:EST
DTSTART:20251102T060000
END:STANDARD
END:VTIMEZONE
BEGIN:VEVENT
DTSTART;VALUE=DATE:20251221
DTEND;VALUE=DATE:20251222
DTSTAMP:20260423T231345
CREATED:20251114T220742Z
LAST-MODIFIED:20251114T220854Z
UID:167670-1766275200-1766361599@www.northeastohioparent.com
SUMMARY:Sensory Friendly Time at the Children’s Museum Cleveland
DESCRIPTION:A special program for families with children with sensory processing disorders and other special needs. 8-9 a.m. 
URL:https://www.northeastohioparent.com/event/sensory-friendly-time-at-the-childrens-museum-cleveland/
LOCATION:Children’s Museum Cleveland\, 3813 Euclid Ave\, Cleveland\, OH\, United States
CATEGORIES:Museums,Special Needs
END:VEVENT
END:VCALENDAR