BEGIN:VCALENDAR
VERSION:2.0
PRODID:-//Northeast Ohio Parent - ECPv5.16.4//NONSGML v1.0//EN
CALSCALE:GREGORIAN
METHOD:PUBLISH
X-WR-CALNAME:Northeast Ohio Parent
X-ORIGINAL-URL:https://www.northeastohioparent.com
X-WR-CALDESC:Events for Northeast Ohio Parent
BEGIN:VTIMEZONE
TZID:America/New_York
BEGIN:DAYLIGHT
TZOFFSETFROM:-0500
TZOFFSETTO:-0400
TZNAME:EDT
DTSTART:20250309T070000
END:DAYLIGHT
BEGIN:STANDARD
TZOFFSETFROM:-0400
TZOFFSETTO:-0500
TZNAME:EST
DTSTART:20251102T060000
END:STANDARD
END:VTIMEZONE
BEGIN:VEVENT
DTSTART;VALUE=DATE:20251116
DTEND;VALUE=DATE:20251117
DTSTAMP:20260424T213231
CREATED:20251011T135654Z
LAST-MODIFIED:20251011T135655Z
UID:162992-1763251200-1763337599@www.northeastohioparent.com
SUMMARY:Sensory Friendly Time
DESCRIPTION: A private sensory friendly room for respite / sensory breaks\, 8 hands-on exhibits for children to learn through play\, explore\, and create.\n\n\nThis is a special program for families with children with sensory processing disorders and other special needs. CMC provides special access to the Museum for families who prefer a less crowded and lower-stimulation environment.\n\n \n\n\nThis program brings families together to learn through play in a unique\, supportive environment. Guests may bring adaptive equipment of their choice. Noise-reducing headphones and sensory support kits be provided upon request on a first-come first-serve basis.\n\n\nTickets: \n\n\nStandard Admission \n\n\nMemberships and access programs accepted.\n\n\n8-9 a.m. 
URL:https://www.northeastohioparent.com/event/sensory-friendly-time/
LOCATION:Children’s Museum of Cleveland\, 3813 Euclid Ave\, Cleveland
CATEGORIES:Museums,Special Needs
ATTACH;FMTTYPE=image/jpeg:https://www.northeastohioparent.com/wp-content/uploads/2024/07/sensory.jpg
END:VEVENT
END:VCALENDAR