BEGIN:VCALENDAR
VERSION:2.0
PRODID:-//Northeast Ohio Parent - ECPv5.16.4//NONSGML v1.0//EN
CALSCALE:GREGORIAN
METHOD:PUBLISH
X-WR-CALNAME:Northeast Ohio Parent
X-ORIGINAL-URL:https://www.northeastohioparent.com
X-WR-CALDESC:Events for Northeast Ohio Parent
BEGIN:VTIMEZONE
TZID:America/New_York
BEGIN:DAYLIGHT
TZOFFSETFROM:-0500
TZOFFSETTO:-0400
TZNAME:EDT
DTSTART:20250309T070000
END:DAYLIGHT
BEGIN:STANDARD
TZOFFSETFROM:-0400
TZOFFSETTO:-0500
TZNAME:EST
DTSTART:20251102T060000
END:STANDARD
END:VTIMEZONE
BEGIN:VEVENT
DTSTART;TZID=America/New_York:20251018T100000
DTEND;TZID=America/New_York:20251129T111500
DTSTAMP:20260425T163811
CREATED:20251009T131425Z
LAST-MODIFIED:20251112T175349Z
UID:162225-1760781600-1764414900@www.northeastohioparent.com
SUMMARY:Shabbat Kids Club and Tiny Tots Shabbat
DESCRIPTION:Weekly Shabbat Kids Club\n\n\nShabbat crafts\, snacks\, games\, stories and songs. Kiddie Kiddush\n\n \n\n\nAges 0-9
URL:https://www.northeastohioparent.com/event/shabbat-kids-club-and-tiny-tots-shabbat/
LOCATION:JFX\, 2200 S Green Road\, Cleveland\, 44121
ORGANIZER;CN="JFX":MAILTO:info@jfxcle.org
END:VEVENT
END:VCALENDAR